BEGIN:VCALENDAR
VERSION:2.0
PRODID:-//GABS ASBL - ECPv6.15.20//NONSGML v1.0//EN
CALSCALE:GREGORIAN
METHOD:PUBLISH
X-ORIGINAL-URL:https://gabs.be
X-WR-CALDESC:Évènements pour GABS ASBL
REFRESH-INTERVAL;VALUE=DURATION:PT1H
X-Robots-Tag:noindex
X-PUBLISHED-TTL:PT1H
BEGIN:VTIMEZONE
TZID:Europe/Brussels
BEGIN:DAYLIGHT
TZOFFSETFROM:+0100
TZOFFSETTO:+0200
TZNAME:CEST
DTSTART:20250330T010000
END:DAYLIGHT
BEGIN:STANDARD
TZOFFSETFROM:+0200
TZOFFSETTO:+0100
TZNAME:CET
DTSTART:20251026T010000
END:STANDARD
BEGIN:DAYLIGHT
TZOFFSETFROM:+0100
TZOFFSETTO:+0200
TZNAME:CEST
DTSTART:20260329T010000
END:DAYLIGHT
BEGIN:STANDARD
TZOFFSETFROM:+0200
TZOFFSETTO:+0100
TZNAME:CET
DTSTART:20261025T010000
END:STANDARD
BEGIN:DAYLIGHT
TZOFFSETFROM:+0100
TZOFFSETTO:+0200
TZNAME:CEST
DTSTART:20270328T010000
END:DAYLIGHT
BEGIN:STANDARD
TZOFFSETFROM:+0200
TZOFFSETTO:+0100
TZNAME:CET
DTSTART:20271031T010000
END:STANDARD
END:VTIMEZONE
BEGIN:VEVENT
DTSTART;TZID=Europe/Brussels:20260524T130000
DTEND;TZID=Europe/Brussels:20260524T180000
DTSTAMP:20260425T134318
CREATED:20260123T080635Z
LAST-MODIFIED:20260414T081654Z
UID:4877-1779627600-1779645600@gabs.be
SUMMARY:JOURNÉE DES FAMILLES
DESCRIPTION:
URL:https://gabs.be/agenda/journee-des-familles-2/
LOCATION:GABS ASBL\, Boulevard de l'Europe 144\, Auvelais\, 5060\, Belgique
ATTACH;FMTTYPE=image/png:https://gabs.be/wp-content/uploads/2026/01/2026-1.png
ORGANIZER;CN="GABS ASBL":MAILTO:info@gabs.be
END:VEVENT
END:VCALENDAR